BEGIN:VCALENDAR
VERSION:2.0
PRODID:-//WereldDansWerkPlaats - ECPv6.15.20//NONSGML v1.0//EN
CALSCALE:GREGORIAN
METHOD:PUBLISH
X-WR-CALNAME:WereldDansWerkPlaats
X-ORIGINAL-URL:https://werelddanswerkplaats.nl
X-WR-CALDESC:Evenementen voor WereldDansWerkPlaats
REFRESH-INTERVAL;VALUE=DURATION:PT1H
X-Robots-Tag:noindex
X-PUBLISHED-TTL:PT1H
BEGIN:VTIMEZONE
TZID:Europe/Amsterdam
BEGIN:DAYLIGHT
TZOFFSETFROM:+0100
TZOFFSETTO:+0200
TZNAME:CEST
DTSTART:20170326T010000
END:DAYLIGHT
BEGIN:STANDARD
TZOFFSETFROM:+0200
TZOFFSETTO:+0100
TZNAME:CET
DTSTART:20171029T010000
END:STANDARD
BEGIN:DAYLIGHT
TZOFFSETFROM:+0100
TZOFFSETTO:+0200
TZNAME:CEST
DTSTART:20180325T010000
END:DAYLIGHT
BEGIN:STANDARD
TZOFFSETFROM:+0200
TZOFFSETTO:+0100
TZNAME:CET
DTSTART:20181028T010000
END:STANDARD
BEGIN:DAYLIGHT
TZOFFSETFROM:+0100
TZOFFSETTO:+0200
TZNAME:CEST
DTSTART:20190331T010000
END:DAYLIGHT
BEGIN:STANDARD
TZOFFSETFROM:+0200
TZOFFSETTO:+0100
TZNAME:CET
DTSTART:20191027T010000
END:STANDARD
BEGIN:DAYLIGHT
TZOFFSETFROM:+0100
TZOFFSETTO:+0200
TZNAME:CEST
DTSTART:20200329T010000
END:DAYLIGHT
BEGIN:STANDARD
TZOFFSETFROM:+0200
TZOFFSETTO:+0100
TZNAME:CET
DTSTART:20201025T010000
END:STANDARD
END:VTIMEZONE
BEGIN:VEVENT
DTSTART;TZID=Europe/Amsterdam:20190215T200000
DTEND;TZID=Europe/Amsterdam:20190215T230000
DTSTAMP:20260423T011458
CREATED:20181221T103132Z
LAST-MODIFIED:20190208T121856Z
UID:643-1550260800-1550271600@werelddanswerkplaats.nl
SUMMARY:Valentine's Jam
DESCRIPTION:Dance celebration of love\nIn het teken van Valentijnsdag viert WereldDansWerkPlaats samen met het Atrium de liefde. In het kloppende hart van de stad dansen verschillende culturen over liefde en ontplooien we de nieuwsgierigheid voor de ander. Dit doen we allemaal tijdens Valentine’s Jam\, een avond waar dans centraal staat\, om te doen\, te kijken\, te beleven\, een plek om elkaar te ontmoeten en de dansvloer op te gaan.\nMet een dansprogramma\, workshops en dansbare lovebeats. Met of zonder (dans)partner? Iedereen is welkom om te dansen\, workshops te volgen of te kijken naar de optredens. \n\nProgramma:\nCouple skating – Es Quint Foundation (Optreden & Workshop)\nRollerskaten is weer helemaal terug. Anno 2019 heeft het Urban Freestyle Rhythm Roller Skating zich wereldwijd enorm ontwikkeld en ligt de pubertijd van het moderne roller skaten mijlenver achter de underground beoefenaars en liefhebbers van nu. Binnen de wereldwijde roller skate community neemt Es Quint uit Den Haag een unieke plaats\, door het uitdragen van de diversiteit van roller skaten.\nBij couple skating rolt een duo ritmisch samen en houden ze elkaar in balans\, terwijl de een leidt en de ander volgt.\nTijdens Valentine’s Jam geeft Stichting Es Quint een korte workshop waarnaar je daarna zelf op de vloer kunt rollen\, leuk om samen met je (dans)partner\, vriend of vriendin uit te proberen.\nGeef je maat door via pr@es-quint.org en voor € 2\,50 kun je de hele avond gebruikmaken van de skates. Dit gehele bedrag komt ten goede van Stichting Es Quint\, voor het motiveren van bewustwording en ondersteuning van meditatie in beweging ten behoeve van gezondheid en vitaliteit en de ondersteuning van initiatieven \, die actief bijdragen aan het welzijn van kinderen met een sociale achterstand in binnen -en buitenland. \nDj Groove Selektor Brian Bfunk \n \n  \nAfrican percussion – Attaaya (Optreden)\nArno Willekes (docent aan LAK\, Leiden) is van oorsprong een multi-instrumentalist en maakte vanaf 1995 de overstap naar de Djembé\, Doundoun en Sabar drums uit met name Senegal. Met zijn percussiegroep Attaaya brengt hij live afrovibes naar het Atrium. \n\n \nTango Centro (Optreden & Workshop)\nDe Argentijnse tangoschool Tango Centro heeft al vaker opgetreden in het Atrium\, zoals tijdens het grote dansevenement Stadsbal. Met een optreden en een workshop onder leiding van Anita van der Helm\, wordt het een zwoele dansavond. \n \nTribal Fusion Bellydance – Vleer (Optreden)\nDe Haagse docent en danseres Vleer speelt graag met de mogelijkheden van buikdans. In WereldDansWerkPlaats geeft ze les in Tribal Fusion Bellydance\, samen met haar studenten presenteert ze een stuk over de speelse kant van de liefde. Een coquette dans met elementen van urban dans stijlen zoals tutting en een hint van Burlesque. \n \nLatin/Urban – A.I.R. met o.a. Andres Jimenez (Optreden)\nDeze dansers werkte drie jaar geleden samen in de Urban danswerkplaats\, nu komen ze weer bij elkaar\,  dit maal in WereldDansWerkPlaats. In deze jam geven ze een speciaal Valentine’s optreden. \n \nCaribbean Zumba – Shalini Bholasing (Optreden & Workshop)\nHeb jij het ook zo koud tijdens deze wintermaanden? Maak jezelf klaar voor een Carribbean Zumba work-out. Shalini Bholasing neemt je mee naar de tropen en je zult de kou even helemaal vergeten. Stop thinking and start shaking! \n\n\nAfro/Urban – Beweigi (Optreden)\nDe afro/urban talenten uit het Haagse Laakkwartier geven een optreden van Beweigi\, dat staat voor dynamisch\, energiek en rauw. Met een hippe medley staan 2 dansgroepen tegenover elkaar. \n \nLove fortune teller puppet – Ludmilla Nikolayevna Popova & Catherine Gardner\nTijdens de Valentine’s Jam kan iedereen zijn/haar liefdestoekomst laten voorspellen door Nikolayevna Popova. Zij is een knappe Russische dame uit Siberië. Zij is de moeder van vijf kinderen en oma van vijftien kleinkinderen. Haar man\, Ivan is weggelopen om bij het Moscow State Circus te gaan werken en nu is zij op zoek naar een nieuwe liefde. \n \n  \n\nTribal Fusion\, Gipsy\, Kandyan en Tarantella – Santa Sara & Ferdy Karto (Optreden)\nDans is in vele beschavingen veel meer dan een uiting. Het is het versterken van de gemeenschap en het bevorderen van eigen welzijn. De Italiaans-Chileense Santa Sara danst Tribal Fusion\, Gipsy\, Kandyan en Tarantella. Deze laatste vorm heeft een Hellenistische traditie\, waarbij de stelling ‘rotatie breekt wat ons houvast geeft’ van toepassing is. Santa Sara legt de nadruk op het ritueel van dans. Samen met performer Ferdy Karto schept ze een beeld van verwantschap – hoe de dynamiek van liefde uiteindelijk rustig landt in het hart. \n  \n\n\n  \n  \n  \n  \n  \n  \n  \n  \n  \n  \nHiphop – Dansbende (Optreden)\nPlezier\, energie en creativiteit\, Dansbende danst een hiphop liefdesremix. \n \n  \n\nSingle ticket € 5\,-  (geldig voor één persoon) / Couple ticket (kom samen) € 7\,50\nTickets via het onderstaande formulier of aan de deur van het Atrium.  \n\n	Bericht: JavaScript is vereist voor deze inhoud.
URL:https://werelddanswerkplaats.nl/event/dans-met-valentijn/
LOCATION:Atrium City Hall\, Spui 70\, Den Haag
ATTACH;FMTTYPE=image/jpeg:https://werelddanswerkplaats.nl/wp-content/uploads/2018/12/Atrium.jpg
ORGANIZER;CN="WereldDansWerkPlaats":MAILTO:info@werelddanswerkplaats.nl
END:VEVENT
BEGIN:VEVENT
DTSTART;TZID=Europe/Amsterdam:20190131T193000
DTEND;TZID=Europe/Amsterdam:20190307T203000
DTSTAMP:20260423T011458
CREATED:20190126T163206Z
LAST-MODIFIED:20190202T122628Z
UID:729-1548963000-1551990600@werelddanswerkplaats.nl
SUMMARY:Zumba met Shalini
DESCRIPTION:Stop thinking and start shaking!\nElke donderdagavond kun je alle werkstress er letterlijk af schudden!\nSamen met zumba instructor Shalini Bholasing ga je de hele wereld over en het is elke week weer een MEGA feest.\nDus kom en doe mee en stap uit die dagelijkse sleur!\nJe gaat gegarandeerd met een glimlach naar huis!\nZumba is just what you need! \nIedere donderdagavond 19.30 t/m 20.30 uur. \nVoor een gratis proefles of meer info. contact docent Shalini Bholasing via info@shalinimusic.nl
URL:https://werelddanswerkplaats.nl/event/zumbalessen-shalini-bholasing/
LOCATION:Theater de Vaillant\, Hobbemastraat 120\, Den Haag\, Nederland
ATTACH;FMTTYPE=image/jpeg:https://werelddanswerkplaats.nl/wp-content/uploads/2018/12/Shalini-2.jpg
END:VEVENT
BEGIN:VEVENT
DTSTART;TZID=Europe/Amsterdam:20190131T190000
DTEND;TZID=Europe/Amsterdam:20190328T220000
DTSTAMP:20260423T011458
CREATED:20181108T115138Z
LAST-MODIFIED:20190126T160648Z
UID:603-1548961200-1553810400@werelddanswerkplaats.nl
SUMMARY:Cursus Tribal Fusion Bellydance (beginners & intermediate)
DESCRIPTION:In het najaar van 2018 is buikdanseres en docent Vleer gestart met lessen in WereldDansWerkPlaats. Iedereen heeft flink de smaak te pakken\, t/m maart 2019 krijgt de lessenreeks een vervolg. Zowel voor beginners als voor intermediate studenten. Verdiep je (verder) in deze groeiende dansvorm: \nBeginners [level 1]\nBuikdans net ontdekt? Nieuwsgierig geworden om deze snel groeiende kunstvorm te leren?\nBeginnend bij de basis zullen we alle fundamentals behandelen van Tribal Fusion Bellydance. \nWe zullen werken aan fitness\, conditionering en techniek. Tegelijkertijd leren we over het cultuur en origine van deze dansvorm. De lessen bestaan uit een grondige warming up\, drills\, combo’s en zullen eindigen met ontspannende rek oefeningen om af te koelen. Deze reeks zal je helpen een betere connectie met  je lichaam te hebben.  En zal betere houding en kracht bevorderen. Evenals meer lichaamscontrole met soepele elegantie. \n16 lessen (20 uren dansen)\nHele cursus € 300\,-\nLosse les € 25\,- \nVoor de danser tussen beginner en half gevorderd. Op zoek naar meer inzicht in Tribal Fusion Bellydance? Dan is het ook mogelijk om level 1 en level 2 te volgen met een flinke korting op beiden cursussen!: \nTotaal 32 lessen (44 uren dansen!)\nPer 8 lessen (level 1 & 2): € 150\,- (2 lessen per week)\nLossen lessen (level 1 & 2): € 35\,- \n[betalen in termijnen mogelijk] \nWanneer: 31 januari 2018 t/m 28 maart 2019.\nTijden: iedere donderdag vanaf 19.00 t/m 20.15 uur (22.00 uur bij zowel level 1 als level 2].\nVoor meer info en inschrijven (verplicht) voor de cursus of losse les mail naar : vle3rt7e@gmail.com \nSchrijf je snel in en reserveer een plek! \n  \nIntermediate [level 2]\nHeb je de basis van Tribal Fusion Bellydance onder de knie? Dan is de halfgevorderde lessen reeks wat voor jou!\nTijdens deze reeks zullen we meerdere dansstijlen in onze dans verwerken en gaan we werken aan choreografieën. We gaan dan met behulp van meer complexe en ingewikkelde bewegingen en lagen dieper in op de les stof\, dit terwijl we langzaam ook het concept van muzikaliteit gaan ontdekken. Hier ook is de mogelijkheid om op te treden op Buikdans Festivals. \nDeze lessen bestaan uit een grondige warming up\, drills\, combo’s en zullen eindigen met ontspannende rek oefeningen om af te koelen.  Deze reeks is gericht op de danser met een basis begrip van Tribal Fusion Bellydance en voor wie het dans vocabulaire wil uitbreiden. Of voor diegene die ook de level 1 lessen reeks volgen. \n16 lessen ( 20 uren dansen )\nHele cursus: € 360\nLosse les:      € 25 \nVoor de danser tussen beginner en half gevorderd die een diepere inzicht wil in Tribal Fusion Bellydance is er ook de mogelijkheid om level 1 en level 2 te volgen met flinke korting op beide cursussen! \n  \nTotaal 32 lessen (44 uren dansen! )\nPer 8 lessen (level 1 & 2): € 150\,-  (2 lessen per week) \nLosse lessen (level 1 & 2): € 35\,- \n[Betalen in termijnen mogelijk] \n  \nWanneer: 31 januari 2018 t/m 28 maart 2019\nTijden: Iedere donderdag vanaf 20.30 uur tot 22.00 uur. \nVoor meer info en inschrijven (verplicht) voor de cursus of losse les mail naar : vle3rt7e@gmail.com \n  \nSchrijf je snel in en reserveer je plek! \n 
URL:https://werelddanswerkplaats.nl/event/cursus-tribal-fusion-bellydance-beginners-intermediate/
LOCATION:Theater de Vaillant\, Hobbemastraat 120\, Den Haag\, Nederland
ATTACH;FMTTYPE=image/jpeg:https://werelddanswerkplaats.nl/wp-content/uploads/2018/11/wytske-homburg.jpg
END:VEVENT
BEGIN:VEVENT
DTSTART;TZID=Europe/Amsterdam:20180928T200000
DTEND;TZID=Europe/Amsterdam:20180928T220000
DTSTAMP:20260423T011458
CREATED:20180901T144156Z
LAST-MODIFIED:20180920T125212Z
UID:538-1538164800-1538172000@werelddanswerkplaats.nl
SUMMARY:Monsoon Jam - Music meets Dance
DESCRIPTION:Tijdens Monsoon Jam zal Renadi Santoso vanuit Indonesische dans en martial art zijn bewegingsideeën met het publiek delen. Geïnspireerd op de universele taal van dans laat Indiase danseres Saskia Pahladsingh een nieuwe choreo zien! Khun Sreynoch\, van New Cambodian Artists -het enige moderne dansgezelschap van Cambodja- presenteert een solo gebaseerd op haar eigen leven als vrouw en danser\, een unieke kijk in de huidige ontwikkelingen in de Cambodjaanse cultuur.\nDe dansmeesters\, spelers en muzikanten (kendang-spelers) van Ikatan Pencak Silat Indonesia (IPSI) geven een unieke presentatie on stage. \nOp 28 september a.s. gaan we voor het eerst een wereld -dans & muziek jam on stage doen. Kom je met ons meejammen?  Neem je instrument mee en/of laat jouw dans zien op het open podium voor dansers en muzikanten van alle windstreken.  \nMEET THE ARTISTS: \nKhun Sreynoch\nIs één van de danseressen van New Cambodian Artists\, het enige moderne dansgezelschap van Cambodja. Khun is de hele maand september in Nederland om zoveel mogelijk dansvoorstellingen te zien – nog nooit zag ze live moderne dans – mensen uit de danswereld te ontmoeten en haar gezelschap te promoten.\nSamen met de Nederlandse theatermaker Bob Ruijzendaal maakte ze een solo\, losjes gebaseerd op haar eigen leven\, als kunstenaar en als vrouw. Om de lagere school te betalen verkocht Khun als meisje ansichtkaarten bij Angkor Wat\, een immens tempelcomplex in Cambodja. De solo genaamd Postcards from the Wat is nu haar eigen ansichtkaart naar Europa geworden. Tijdens Monsoon Jam danst Khun een aantal delen uit deze grote solo\, een unieke kijk in de huidige ontwikkelingen in de Cambodjaanse cultuur. \n \n\nRenadi Santoso\nMet een studie in Javaanse\, Balinese en Sudanese dans & Pencak Silat put Renadi Santoso uit veelzijdig bewegingsmateriaal. Als muzikant en/of danser was hij betrokken bij diverse moderne dansproducties\, theaterstukken en muziekcomposities.\nTijdens Monsoon Jam zal Renadi zich laten leiden door het moment en de ruimte en hoopt hij hiermee de typische\, specifieke kracht\, intuïtieve flow en on the fly structuring van improvisatie te laten voelen. In tegenstelling tot wat in de klassieke Indonesische dansen gebruikelijk is\, zal er geen verhaal uitgebeeld worden. De bewegingstaal wordt gedeconstrueerd en geabstraheerd\, waardoor nieuwe betekenissen en concepten kunnen worden toegewezen aan de van oorsprong klassieke bewegingen en poses. De toeschouwer krijgt de mogelijkheid een eigen verhaal te bedenken bij het zien van deze dans.  \n\n \n  \n  \nSaskia Pahladsingh\nSaskia’s roots liggen in de Zuid-Indiase klassieke dans Bharata Natyam. In 1999 volbracht zij succesvol haar Arangetram (traditioneel podiumdebuut) onder begeleiding van haar guru Smt. Sitra Bonoo. Momenteel geeft ze masterclasses en workshops vanuit haar eigen Bharata Natyam dansschool in Den Haag\, Anjaly Abhinaya.\nSaskia Pahladsingh over haar nieuwe choreo tijdens Monsoon Jam:\n‘Mijn dansziel laat ik graag bekoren door diverse internationale dansstijlen. Ik ben van mening dat dans een universele taal en expressievorm is. Dit is ook terug te vinden in mijn choreo.’ \n  \n \n  \nWorld Music and Dance Jam (bring your moves\, grooves and instruments)!! \n20.00-22.00 uur | € 10\,-\n*passe-partout    | € 15\,- \n*passe-partout bestaat uit Monsoon Jam en de workshop Sundanese Pencak Silat in de middag: http://werelddanswerkplaats.nl/event/workshop-sundanese-pencak-silat/ \nreserveren via: info@werelddanswerkplaats.nl
URL:https://werelddanswerkplaats.nl/event/monsoon-jam-music-meets-dance/
LOCATION:Theater de Vaillant\, Hobbemastraat 120\, Den Haag\, Nederland
ATTACH;FMTTYPE=image/jpeg:https://werelddanswerkplaats.nl/wp-content/uploads/2018/09/flyer-monsoon-jam-28-09-voor-a5.jpg
END:VEVENT
BEGIN:VEVENT
DTSTART;TZID=Europe/Amsterdam:20180928T180000
DTEND;TZID=Europe/Amsterdam:20180928T190000
DTSTAMP:20260423T011458
CREATED:20180901T151655Z
LAST-MODIFIED:20180901T151829Z
UID:545-1538157600-1538161200@werelddanswerkplaats.nl
SUMMARY:Workshop Sundanese Pencak Silat
DESCRIPTION:Te gast uit Indonesië is een West-Javaanse groep Pencak Silat spelers en muzikanten. Maak kennis met deze Indonesische martial art vorm uit West-Java. De nationale Silatbond Ikatan Pencak Silat Indonesia (IPSI) stuurt speciaal een groep om het Nederlandse publiek kennis te laten maken met deze dynamische Pencak Silat stijl. Bijzonder voor Nederland is dat er ook speciale percussionisten (Kendang Pencak) met de deze groep meekomen. Beweging\, dans en muziek gaan in deze Sundanese vechtkunst samen tot een mystiek geheel. \n\n\n \n\n\nOpen level. \n\n\n \n\n\nTijdens Monsoon Jam geven de dansmeesters en muzikanten van IPSI een performance on stage. \n\n\n \n\n\nworkshop € 10\,- \n\n\npasse-partout* € 15\,-\n\n\n \n\n\n*bestaat uit de workshop Sundanese Pencak Silat en Monsoon Jam in de avond: http://werelddanswerkplaats.nl/event/monsoon-jam-music-meets-dance/ \n\n\n \n\n\nreserveren via: info@werelddanswerkplaats.nl
URL:https://werelddanswerkplaats.nl/event/workshop-sundanese-pencak-silat/
LOCATION:Theater de Vaillant\, Hobbemastraat 120\, Den Haag\, Nederland
CATEGORIES:Monsoon Jam
ATTACH;FMTTYPE=image/jpeg:https://werelddanswerkplaats.nl/wp-content/uploads/2018/09/Penca-Sunda.jpg
END:VEVENT
BEGIN:VEVENT
DTSTART;TZID=Europe/Amsterdam:20180906T200000
DTEND;TZID=Europe/Amsterdam:20181108T220000
DTSTAMP:20260423T011458
CREATED:20180822T153051Z
LAST-MODIFIED:20180822T153051Z
UID:530-1536264000-1541714400@werelddanswerkplaats.nl
SUMMARY:Danscursus Fusion Bellydance door Vleer
DESCRIPTION:Nieuwsgierig naar Fusion Bellydance?\nHier is je  kans om deze prachtige en  veelzijdige dansvorm te ontdekken. Tijdens deze nieuwe 10-weekse cursus met lessen elke donderdag avond\, maak je kennis met de basistechnieken van Fusion Bellydance. Met behulp van specifieke oefeningen en drills zullen wij een beter begrip ontwikkelen over de vloeiende lijnen van Fusion Bellydance en deze te belichamen. Vervolgens gaan wij deze verfijnen met leuke dans combo’s geïnspireerd op Tribal Fusion Bellydance en Urban Fusion. \nWil je optreden?\nNaast de wekelijkse lessen kun je er ook voor kiezen om deel uit te maken van de beginners performance groep. In deze 10 weken creëren we een choreografie en werken we naar een optreden toe op een buikdans evenement in midden november. \nOver Vleer:\nVleer danst al vanaf kleins af aan\, maar werd verliefd op Tribal Fusion Bellydance in 2008. Sindsdien is zij les gaan volgen bij o.a. Renate Bakker en Tjarda van Straten. Door de jaren heen heeft Vleer haar  dansstijl verfijnt in een fusie van urban dansstijlen waaronder Popping\, Hip Hop en Animation met Tribal Fusion Bellydance. Na een aantal workshops te hebben gegeven is de beslissing tot stand gekomen om een zelf vormgegeven cursus aan te bieden om deze mooie en veelzijdige dansstijl te delen met een breder publiek. Naast dat ze zelf regelmatig danst op internationale podia is ze ook werkzaam als make-up artiest met specialisatie stage make up. \nNiveau: beginner (geen buikdanservaring nodig) of open (voor ervaren buikdansers opzoek naar een opfriscursus) \nWanneer:\niedere donderdag vanaf 20.00 t/m 21.30 uur (performance groep tot 22.00 uur)\ntien weken op: 6\,13\,20\,27 september. 4\, 11\, 18\, 25 oktober en  1 & 8 november 2018. \nHet optreden met de performance groep vindt half november plaats.\n\nDeelnemerskosten;\nVolledige cursus: €180\,-\nVolledige cursus + performance groep: €195\,-\nLosse les: €25\,- \nRegistratie en meer info: vle3rt7e@gmail.com
URL:https://werelddanswerkplaats.nl/event/danscursus-fusion-bellydance-vleer/
LOCATION:Theater de Vaillant\, Hobbemastraat 120\, Den Haag\, Nederland
CATEGORIES:Cursus
ATTACH;FMTTYPE=image/jpeg:https://werelddanswerkplaats.nl/wp-content/uploads/2018/08/20180317-5-jaar-Vaillant-14.jpg
ORGANIZER;CN="Vleer":MAILTO:vle3rt7e@gmail.com
END:VEVENT
END:VCALENDAR